Workbook

Sheet Cuadro de Precios
A1: 385 | F1: cuadro de precios - 032089 CASA DE JUNTAS AVELLANEDA(SIN PRECIOS) v01.bc3 | G1: % c.i.=
A2: 2 | G2: 0
A3: FILA | B3: CAT | C3: TIPO | D3: CODIGO | E3: UD | F3: DESCRIPCION CORTA | G3: PRECIO | H3: PRECIO | I3: PRECIO BC3 | J3: DESCRIPCION LARGA
A4: 4 | F4: PRECIOS BASICOS | J4: No tienen descomposición, no son componentes de otro precio y son partidas del presupuesto
A5: 5 | B5: B | C5: 0 | D5: CC baldosa | E5: u | F5: Ensayos Baldosas | G5: 0 | H5: =G5*(1+(G2/100)) -> 0 | I5: =0*(1+(G2/100)) -> 0
A6: 6 | B6: B | C6: 0 | D6: CC bitu | E6: u | F6: Ensayos Laminas bituminosas | G6: 0 | H6: =G6*(1+(G2/100)) -> 0 | I6: =0*(1+(G2/100)) -> 0
A7: 7 | B7: B | C7: 0 | D7: CC mortero | E7: u | F7: Ensayos Mortero cal y Piedra natural | G7: 0 | H7: =G7*(1+(G2/100)) -> 0 | I7: =0*(1+(G2/100)) -> 0
A8: 8 | B8: B | C8: 0 | D8: E26FHW010 | E8: ud | F8: DESMONTADO Y REPOSICIÓN DE INSTALACIONES EN SALA DE EXPOSICIONES | G8: 0 | H8: =G8*(1+(G2/100)) -> 0 | I8: =0*(1+(G2/100)) -> 0 | J8: Levantado y posterior reposición de instalaciones en en salas de exposiciones, formado por: desmontado de mecanismos, instalación, señaletica y detectores, acopio para su posterior reposición, colocación de los elementos después de la actuación de reparación, comprobación de funcionamiento y puesta en marcha del sistema. Elementos afectados: pulsadores de alarma, luminarias de emergencia, sensores, carteles de señalización, detectores de alarma, mecansmos eléctricos, altavoces de techo. Partida alzada a justificar.
A9: 9 | B9: B | C9: 0 | D9: E28BA020 | E9: m | F9: Acometida eléctrica a caseta | G9: 0 | H9: =G9*(1+(G2/100)) -> 0 | I9: =0*(1+(G2/100)) -> 0
A10: 10 | B10: B | C10: 0 | D10: E28BA030 | E10: ud | F10: Acometida provisional de fontanería a caseta | G10: 0 | H10: =G10*(1+(G2/100)) -> 0 | I10: =0*(1+(G2/100)) -> 0
A11: 11 | B11: B | C11: 0 | D11: E28BA040 | E11: ud | F11: Acometida provisional de saneamiento a caseta | G11: 0 | H11: =G11*(1+(G2/100)) -> 0 | I11: =0*(1+(G2/100)) -> 0
A12: 12 | B12: B | C12: 0 | D12: E28BA050 | E12: ud | F12: Acometida provisional de teléfono a caseta | G12: 0 | H12: =G12*(1+(G2/100)) -> 0 | I12: =0*(1+(G2/100)) -> 0
A13: 13 | B13: B | C13: 0 | D13: E28BC066_01 | E13: mes | F13: Caseta para vestuario en alquiler (8-10 m2) | G13: 0 | H13: =G13*(1+(G2/100)) -> 0 | I13: =0*(1+(G2/100)) -> 0
A14: 14 | B14: B | C14: 0 | D14: E28BC080 | E14: mes | F14: Caseta para aseo en alquiler (12-15 m2) | G14: 0 | H14: =G14*(1+(G2/100)) -> 0 | I14: =0*(1+(G2/100)) -> 0
A15: 15 | B15: B | C15: 0 | D15: E28BC130 | E15: mes | F15: Caseta para almacén en alquiler (12-15 m2) | G15: 0 | H15: =G15*(1+(G2/100)) -> 0 | I15: =0*(1+(G2/100)) -> 0
A16: 16 | B16: B | C16: 0 | D16: E28BC160 | E16: mes | F16: Caseta para oficina en alquiler (12-15 m2) | G16: 0 | H16: =G16*(1+(G2/100)) -> 0 | I16: =0*(1+(G2/100)) -> 0
A17: 17 | B17: B | C17: 0 | D17: E28BC200 | E17: mes | F17: Alquiler caseta comedor (20 m2) | G17: 0 | H17: =G17*(1+(G2/100)) -> 0 | I17: =0*(1+(G2/100)) -> 0
A18: 18 | B18: B | C18: 0 | D18: E28BM010 | E18: ud | F18: Percha para aseo | G18: 0 | H18: =G18*(1+(G2/100)) -> 0 | I18: =0*(1+(G2/100)) -> 0
A19: 19 | B19: B | C19: 0 | D19: E28BM020 | E19: ud | F19: Portarrollos industrial | G19: 0 | H19: =G19*(1+(G2/100)) -> 0 | I19: =0*(1+(G2/100)) -> 0
A20: 20 | B20: B | C20: 0 | D20: E28BM030 | E20: ud | F20: Espejo vestuarios y aseos | G20: 0 | H20: =G20*(1+(G2/100)) -> 0 | I20: =0*(1+(G2/100)) -> 0
A21: 21 | B21: B | C21: 0 | D21: E28BM040 | E21: ud | F21: Jabonera industrial | G21: 0 | H21: =G21*(1+(G2/100)) -> 0 | I21: =0*(1+(G2/100)) -> 0
A22: 22 | B22: B | C22: 0 | D22: E28BM045 | E22: ud | F22: Dispensador de papel toalla | G22: 0 | H22: =G22*(1+(G2/100)) -> 0 | I22: =0*(1+(G2/100)) -> 0
A23: 23 | B23: B | C23: 0 | D23: E28BM050 | E23: ud | F23: Secamanos eléctrico | G23: 0 | H23: =G23*(1+(G2/100)) -> 0 | I23: =0*(1+(G2/100)) -> 0
A24: 24 | B24: B | C24: 0 | D24: E28BM060 | E24: ud | F24: Horno microondas | G24: 0 | H24: =G24*(1+(G2/100)) -> 0 | I24: =0*(1+(G2/100)) -> 0
A25: 25 | B25: B | C25: 0 | D25: E28BM070 | E25: ud | F25: Taquilla metálica individual | G25: 0 | H25: =G25*(1+(G2/100)) -> 0 | I25: =0*(1+(G2/100)) -> 0
A26: 26 | B26: B | C26: 0 | D26: E28BM080 | E26: ud | F26: Mesa para 10 personas | G26: 0 | H26: =G26*(1+(G2/100)) -> 0 | I26: =0*(1+(G2/100)) -> 0
A27: 27 | B27: B | C27: 0 | D27: E28BM090 | E27: ud | F27: Banco madera para 5 personas | G27: 0 | H27: =G27*(1+(G2/100)) -> 0 | I27: =0*(1+(G2/100)) -> 0
A28: 28 | B28: B | C28: 0 | D28: E28BM100 | E28: ud | F28: Cubo de basuras | G28: 0 | H28: =G28*(1+(G2/100)) -> 0 | I28: =0*(1+(G2/100)) -> 0
A29: 29 | B29: B | C29: 0 | D29: E28BM110 | E29: ud | F29: Botiquín de urgencia, colocado | G29: 0 | H29: =G29*(1+(G2/100)) -> 0 | I29: =0*(1+(G2/100)) -> 0
A30: 30 | B30: B | C30: 0 | D30: E28BM120 | E30: ud | F30: Reposición de material de botiquín de urgencia | G30: 0 | H30: =G30*(1+(G2/100)) -> 0 | I30: =0*(1+(G2/100)) -> 0
A31: 31 | B31: B | C31: 0 | D31: E28BM150 | E31: ud | F31: Convector eléctrico de pared 1000 W | G31: 0 | H31: =G31*(1+(G2/100)) -> 0 | I31: =0*(1+(G2/100)) -> 0
A32: 32 | B32: B | C32: 0 | D32: E28ES080 | E32: ud | F32: Placa de señalización de riesgo | G32: 0 | H32: =G32*(1+(G2/100)) -> 0 | I32: =0*(1+(G2/100)) -> 0
A33: 33 | B33: B | C33: 0 | D33: E28PB070 | E33: m | F33: Barandilla de protección de escaleras | G33: 0 | H33: =G33*(1+(G2/100)) -> 0 | I33: =0*(1+(G2/100)) -> 0
A34: 34 | B34: B | C34: 0 | D34: E28PB180 | E34: ud | F34: Valla portátil | G34: 0 | H34: =G34*(1+(G2/100)) -> 0 | I34: =0*(1+(G2/100)) -> 0
A35: 35 | B35: B | C35: 0 | D35: E28PE010 | E35: ud | F35: Lámpara portátil de mano | G35: 0 | H35: =G35*(1+(G2/100)) -> 0 | I35: =0*(1+(G2/100)) -> 0
A36: 36 | B36: B | C36: 0 | D36: E28PE020 | E36: ud | F36: Toma de tierra | G36: 0 | H36: =G36*(1+(G2/100)) -> 0 | I36: =0*(1+(G2/100)) -> 0
A37: 37 | B37: B | C37: 0 | D37: E28PE040 | E37: ud | F37: Transformador | G37: 0 | H37: =G37*(1+(G2/100)) -> 0 | I37: =0*(1+(G2/100)) -> 0
A38: 38 | B38: B | C38: 0 | D38: E28PE120 | E38: ud | F38: Cuadro eléctrico secundario de 20 kW potencia máxima | G38: 0 | H38: =G38*(1+(G2/100)) -> 0 | I38: =0*(1+(G2/100)) -> 0
A39: 39 | B39: B | C39: 0 | D39: E28PE140 | E39: ud | F39: Cuadro de obra trifásico 63 A | G39: 0 | H39: =G39*(1+(G2/100)) -> 0 | I39: =0*(1+(G2/100)) -> 0
A40: 40 | B40: B | C40: 0 | D40: E28PF020 | E40: ud | F40: Extintor portátil | G40: 0 | H40: =G40*(1+(G2/100)) -> 0 | I40: =0*(1+(G2/100)) -> 0
...

Sheet Precios Descompuestos
A1: 1 | E1: descomposición de precios - 032089 CASA DE JUNTAS AVELLANEDA(SIN PRECIOS) v01.bc3
A2: FILA | B2: CODIGO | C2: COMPONENTE | D2: UD | E2: DESCRIPCION CORTA | F2: RENDIMIENTO | G2: PRECIO | H2: IMPORTE | I2: ='Cuadro de Precios'!I3 -> PRECIO BC3 | J2: DIF.PRECIO | K2: DESCRIPCION LARGA
A3: 3 | E3: PRECIOS AUXILIARES
A4: 4 | B4: A01A010 | D4: m3 | E4: PASTA DE CAL APAGADA AMASADA | G4: =H8 -> 0 | I4: ='Cuadro de Precios'!I282 -> 0 | J4: =(G4-I4) -> 0 | K4: Pasta de cal viva apagada, amasada manualmente.
A5: 5 | C5: O01OA070 | D5: h | E5: Peón ordinario | F5: 2.5 | G5: ='Cuadro de Precios'!H145 -> 0 | H5: =PRODUCT(F5:G5) -> 0 | I5: ='Cuadro de Precios'!I145 -> 0 | J5: =(G5-I5) -> 0
A6: 6 | C6: P01CL030 | D6: t | E6: Cal hidratada en sacos S | F6: 0.35 | G6: ='Cuadro de Precios'!H179 -> 0 | H6: =PRODUCT(F6:G6) -> 0 | I6: ='Cuadro de Precios'!I179 -> 0 | J6: =(G6-I6) -> 0
A7: 7 | C7: P01DW050 | D7: m3 | E7: Agua | F7: 0.7 | G7: ='Cuadro de Precios'!H184 -> 0 | H7: =PRODUCT(F7:G7) -> 0 | I7: ='Cuadro de Precios'!I184 -> 0 | J7: =(G7-I7) -> 0
A8: 8 | E8: Total precio............ | H8: =SUM(H5:H7) -> 0
A9: 9 | B9: A01A040 | D9: m3 | E9: PASTA DE YESO BLANCO | G9: =H13 -> 0 | I9: ='Cuadro de Precios'!I283 -> 0 | J9: =(G9-I9) -> 0 | K9: Pasta de yeso blanco amasado manualmente.
A10: 10 | C10: O01OA070 | D10: h | E10: Peón ordinario | F10: 2.5 | G10: ='Cuadro de Precios'!H145 -> 0 | H10: =PRODUCT(F10:G10) -> 0 | I10: ='Cuadro de Precios'!I145 -> 0 | J10: =(G10-I10) -> 0
A11: 11 | C11: P01CY030 | D11: t | E11: Yeso blanco en sacos YF | F11: 0.81 | G11: ='Cuadro de Precios'!H181 -> 0 | H11: =PRODUCT(F11:G11) -> 0 | I11: ='Cuadro de Precios'!I181 -> 0 | J11: =(G11-I11) -> 0
A12: 12 | C12: P01DW050 | D12: m3 | E12: Agua | F12: 0.65 | G12: ='Cuadro de Precios'!H184 -> 0 | H12: =PRODUCT(F12:G12) -> 0 | I12: ='Cuadro de Precios'!I184 -> 0 | J12: =(G12-I12) -> 0
A13: 13 | E13: Total precio............ | H13: =SUM(H10:H12) -> 0
A14: 14 | B14: A01L010 | D14: m3 | E14: LECHADA CAL VIVA APAGADA | G14: =H18 -> 0 | I14: ='Cuadro de Precios'!I284 -> 0 | J14: =(G14-I14) -> 0 | K14: Cal viva apagada en lechada, amasada manualmente.
A15: 15 | C15: O01OA070 | D15: h | E15: Peón ordinario | F15: 2 | G15: ='Cuadro de Precios'!H145 -> 0 | H15: =PRODUCT(F15:G15) -> 0 | I15: ='Cuadro de Precios'!I145 -> 0 | J15: =(G15-I15) -> 0
A16: 16 | C16: P01CL010 | D16: t | E16: Cal viva molida en sacos Q | F16: 0.3 | G16: ='Cuadro de Precios'!H178 -> 0 | H16: =PRODUCT(F16:G16) -> 0 | I16: ='Cuadro de Precios'!I178 -> 0 | J16: =(G16-I16) -> 0
A17: 17 | C17: P01DW050 | D17: m3 | E17: Agua | F17: 0.85 | G17: ='Cuadro de Precios'!H184 -> 0 | H17: =PRODUCT(F17:G17) -> 0 | I17: ='Cuadro de Precios'!I184 -> 0 | J17: =(G17-I17) -> 0
A18: 18 | E18: Total precio............ | H18: =SUM(H15:H17) -> 0
A19: 19 | B19: A01L020 | D19: m3 | E19: LECHADA CEMENTO 1/2 CEM II/B-P 32,5 N | G19: =H23 -> 0 | I19: ='Cuadro de Precios'!I285 -> 0 | J19: =(G19-I19) -> 0 | K19: Lechada de cemento CEM II/B-P 32,5 N 1/2, amasada a mano, s/RC-08.
A20: 20 | C20: O01OA070 | D20: h | E20: Peón ordinario | F20: 2 | G20: ='Cuadro de Precios'!H145 -> 0 | H20: =PRODUCT(F20:G20) -> 0 | I20: ='Cuadro de Precios'!I145 -> 0 | J20: =(G20-I20) -> 0
A21: 21 | C21: P01CC020 | D21: t | E21: Cemento CEM II/B-P 32,5 N sacos | F21: 0.425 | G21: ='Cuadro de Precios'!H176 -> 0 | H21: =PRODUCT(F21:G21) -> 0 | I21: ='Cuadro de Precios'!I176 -> 0 | J21: =(G21-I21) -> 0
A22: 22 | C22: P01DW050 | D22: m3 | E22: Agua | F22: 0.85 | G22: ='Cuadro de Precios'!H184 -> 0 | H22: =PRODUCT(F22:G22) -> 0 | I22: ='Cuadro de Precios'!I184 -> 0 | J22: =(G22-I22) -> 0
A23: 23 | E23: Total precio............ | H23: =SUM(H20:H22) -> 0
A24: 24 | B24: A01L090 | D24: m3 | E24: LECHADA CEM. BLANCO BL 22,5 X | G24: =H28 -> 0 | I24: ='Cuadro de Precios'!I286 -> 0 | J24: =(G24-I24) -> 0 | K24: Lechada de cemento blanco BL 22,5 X amasado a mano, s/RC-08.
A25: 25 | C25: O01OA070 | D25: h | E25: Peón ordinario | F25: 2 | G25: ='Cuadro de Precios'!H145 -> 0 | H25: =PRODUCT(F25:G25) -> 0 | I25: ='Cuadro de Precios'!I145 -> 0 | J25: =(G25-I25) -> 0
A26: 26 | C26: P01CC120 | D26: t | E26: Cemento blanco BL 22,5 X sacos | F26: 0.5 | G26: ='Cuadro de Precios'!H177 -> 0 | H26: =PRODUCT(F26:G26) -> 0 | I26: ='Cuadro de Precios'!I177 -> 0 | J26: =(G26-I26) -> 0
A27: 27 | C27: P01DW050 | D27: m3 | E27: Agua | F27: 0.9 | G27: ='Cuadro de Precios'!H184 -> 0 | H27: =PRODUCT(F27:G27) -> 0 | I27: ='Cuadro de Precios'!I184 -> 0 | J27: =(G27-I27) -> 0
A28: 28 | E28: Total precio............ | H28: =SUM(H25:H27) -> 0
A29: 29 | B29: A02A080 | D29: m3 | E29: MORTERO CEMENTO M-5 | G29: =H35 -> 0 | I29: ='Cuadro de Precios'!I287 -> 0 | J29: =(G29-I29) -> 0 | K29: Mortero de cemento CEM II/B-P 32,5 N y arena de río de tipo M-5 para uso corriente (G), con resistencia a compresión a 28 días de 5,0 N/mm2, confeccionado con hormigonera de 200 l, s/RC-08 y UNE-EN 998-2:2004.
A30: 30 | C30: O01OA070 | D30: h | E30: Peón ordinario | F30: 2.125 | G30: ='Cuadro de Precios'!H145 -> 0 | H30: =PRODUCT(F30:G30) -> 0 | I30: ='Cuadro de Precios'!I145 -> 0 | J30: =(G30-I30) -> 0
A31: 31 | C31: P01CC020 | D31: t | E31: Cemento CEM II/B-P 32,5 N sacos | F31: 0.27 | G31: ='Cuadro de Precios'!H176 -> 0 | H31: =PRODUCT(F31:G31) -> 0 | I31: ='Cuadro de Precios'!I176 -> 0 | J31: =(G31-I31) -> 0
A32: 32 | C32: P01AA020 | D32: m3 | E32: Arena de río 0/6 mm | F32: 1.09 | G32: ='Cuadro de Precios'!H173 -> 0 | H32: =PRODUCT(F32:G32) -> 0 | I32: ='Cuadro de Precios'!I173 -> 0 | J32: =(G32-I32) -> 0
A33: 33 | C33: P01DW050 | D33: m3 | E33: Agua | F33: 0.255 | G33: ='Cuadro de Precios'!H184 -> 0 | H33: =PRODUCT(F33:G33) -> 0 | I33: ='Cuadro de Precios'!I184 -> 0 | J33: =(G33-I33) -> 0
A34: 34 | C34: M03HH020 | D34: h | E34: Hormigonera 200 l gasolina | F34: 0.4 | G34: ='Cuadro de Precios'!H110 -> 0 | H34: =PRODUCT(F34:G34) -> 0 | I34: ='Cuadro de Precios'!I110 -> 0 | J34: =(G34-I34) -> 0
A35: 35 | E35: Total precio............ | H35: =SUM(H30:H34) -> 0
A36: 36 | B36: A02A140 | D36: m3 | E36: MORTERO CEMENTO M-5 C/A.MIGA | G36: =H42 -> 0 | I36: ='Cuadro de Precios'!I288 -> 0 | J36: =(G36-I36) -> 0 | K36: Mortero de cemento CEM II/B-P 32,5 N y arena de miga de tipo M-5 para uso corriente (G), con resistencia a compresión a 28 días de 5,0 N/mm2, confeccionado con hormigonera de 200 l, s/RC-08 y UNE-EN 998-2:2004.
A37: 37 | C37: O01OA070 | D37: h | E37: Peón ordinario | F37: 1.7 | G37: ='Cuadro de Precios'!H145 -> 0 | H37: =PRODUCT(F37:G37) -> 0 | I37: ='Cuadro de Precios'!I145 -> 0 | J37: =(G37-I37) -> 0
A38: 38 | C38: P01CC020 | D38: t | E38: Cemento CEM II/B-P 32,5 N sacos | F38: 0.27 | G38: ='Cuadro de Precios'!H176 -> 0 | H38: =PRODUCT(F38:G38) -> 0 | I38: ='Cuadro de Precios'!I176 -> 0 | J38: =(G38-I38) -> 0
A39: 39 | C39: P01AA060 | D39: m3 | E39: Arena de miga cribada | F39: 1.09 | G39: ='Cuadro de Precios'!H174 -> 0 | H39: =PRODUCT(F39:G39) -> 0 | I39: ='Cuadro de Precios'!I174 -> 0 | J39: =(G39-I39) -> 0
A40: 40 | C40: P01DW050 | D40: m3 | E40: Agua | F40: 0.255 | G40: ='Cuadro de Precios'!H184 -> 0 | H40: =PRODUCT(F40:G40) -> 0 | I40: ='Cuadro de Precios'!I184 -> 0 | J40: =(G40-I40) -> 0
...

Sheet Presupuesto
F1: presupuesto - 032089 CASA DE JUNTAS AVELLANEDA(SIN PRECIOS) v01.bc3
A2: Linea | B2: Tipo | C2: Orden | D2: Código | E2: Ud | F2: Descripción | G2: Unidades | H2: Largo | I2: Ancho | J2: Alto | K2: Parcial | L2: Medición | M2: Precio | N2: Cálculo | O2: Importe | P2: Cantidad BC3 | Q2: Precio BC3 | R2: Importe Bc3 | S2: Dif.Can | T2: Dif.Pre | U2: Dif.Imp
A3: 3 | B3: R | D3: 0 | F3: PROYECTO: REPARACIÓN DE DAÑOS EN LA CASA DE JUNTAS DE ABELLANEDA
A4: 4 | B4: # | C4: 01 | D4: Cap. 01 | F4: ACTUACIÓN EN CUBIERTAS CASA TORRE Y ALMENAS | O4: =O168 -> 0 | P4: 1 | Q4: 0 | R4: =PRODUCT(P4:Q4) -> 0 | U4: =(O4-R4) -> 0
A5: 5 | B5: D | C5: 01.01 | D5: R02AB040IZ | E5: u | F5: MAPEADO DE PIEZAS EN ALMENAS | L5: =K9 -> 1 | M5: ='Cuadro de Precios'!H361 -> 0 | N5: =(L5*M5) -> 0 | O5: =N5 -> 0 | P5: 1 | Q5: ='Cuadro de Precios'!I361 -> 0 | R5: =PRODUCT(P5:Q5) -> 0 | S5: =(L5-P5) -> 0 | T5: =(M5-Q5) -> 0 | U5: =(O5-R5) -> 0
A6: 6 | B6: T | F6: Mapeado de las piezas que conforman las almenas de la terraza en la casa torre, formado por: recogida de datos para clasificación de los sillares y mampuestos que conforman cada una de las pieza de la almena, para llevar a cabo el desmontado y posteriormente su reconstrucción, reubicando cada una de las piezas en su posición original. Se marcara cada una de las piezas desmontadas y se registrará en un documento que recoja el tipo de caracterización, ubicación y grafismo. Medida la unidad ejecutada.
A7: 7 | G7: 1 | K7: =PRODUCT(G7:J7) -> 1
A8: 8 | B8: 1 | L8: =SUM(K7:K7) -> 1
A9: 9 | B9: M | F9: Total Medición........ | K9: =SUM(K7:K8) -> 1
A10: 10
A11: 11 | B11: D | C11: 01.02 | D11: R03AD040W4 | E11: m3 | F11: DESMONTADO ALMENAS MAMPOSTERÍA Y ACOPIO | L11: =K16 -> 6.48 | M11: ='Cuadro de Precios'!H362 -> 0 | N11: =(L11*M11) -> 0 | O11: =N11 -> 0 | P11: 6.48 | Q11: ='Cuadro de Precios'!I362 -> 0 | R11: =PRODUCT(P11:Q11) -> 0 | S11: =(L11-P11) -> 0 | T11: =(M11-Q11) -> 0 | U11: =(O11-R11) -> 0
A12: 12 | B12: T | F12: Desmontado de almenas y cañoneras en coronación de muro de mampostería hasta 100 cm de altura, formado por: desmontado a mano de la pieza arquitectónica, hasta enrasar con el nivel por debajo de las cañoneras (coronación del muro), codificando cada una de ellas para posteriormente colocarla en su posición original, acopio de piezas en el suelo de la terraza noroeste, incluso medios de protección. Medido el voumen desmontado.
A13: 13 | F13: Almenas | G13: 18 | H13: 0.6 | I13: 0.5 | J13: 1 | K13: =PRODUCT(G13:J13) -> 5.4
A14: 14 | F14: Cañoneras | G14: 18 | H14: 0.6 | I14: 0.5 | J14: 0.2 | K14: =PRODUCT(G14:J14) -> 1.08
A15: 15 | B15: 1 | L15: =SUM(K13:K14) -> 6.48
A16: 16 | B16: M | F16: Total Medición........ | K16: =SUM(K13:K15) -> 6.48
A17: 17
A18: 18 | B18: D | C18: 01.03 | D18: R07P020 | E18: m | F18: PREPARACIÓN CORONACIÓN MURO MAMPOSTERÍA | L18: =K23 -> 23 | M18: ='Cuadro de Precios'!H371 -> 0 | N18: =(L18*M18) -> 0 | O18: =N18 -> 0 | P18: 23 | Q18: ='Cuadro de Precios'!I371 -> 0 | R18: =PRODUCT(P18:Q18) -> 0 | S18: =(L18-P18) -> 0 | T18: =(M18-Q18) -> 0 | U18: =(O18-R18) -> 0
A19: 19 | B19: T | F19: Preparación de coronación de almena y muro de fábrica de mampostería de espesor aproximado 60cm, para asentamiento de albardilla en coronación del muro, incluso medios de protección, con retirada de escombros y carga, sin transporte a vertedero o planta de reciclaje, según NTE/ADD-9. Medida la longitud ejecutada.
A20: 20 | G20: 1 | H20: 10 | K20: =PRODUCT(G20:J20) -> 10
A21: 21 | G21: 1 | H21: 13 | K21: =PRODUCT(G21:J21) -> 13
A22: 22 | B22: 1 | L22: =SUM(K20:K21) -> 23
A23: 23 | B23: M | F23: Total Medición........ | K23: =SUM(K20:K22) -> 23
A24: 24
A25: 25 | B25: D | C25: 01.04 | D25: E06PA010A1 | E25: m | F25: ALBARDILLA PIEDRA ARENISCA | L25: =K30 -> 23 | M25: ='Cuadro de Precios'!H326 -> 0 | N25: =(L25*M25) -> 0 | O25: =N25 -> 0 | P25: 23 | Q25: ='Cuadro de Precios'!I326 -> 0 | R25: =PRODUCT(P25:Q25) -> 0 | S25: =(L25-P25) -> 0 | T25: =(M25-Q25) -> 0 | U25: =(O25-R25) -> 0
A26: 26 | B26: T | F26: Albardilla de piedra arenisca labrada con acabado rústico en la cara inferior (abujardado o escafilado), en sección rectangular de 100 cm de largo, 50 cm de ancho y 5 cm. de espesor, recibido con mortero de cal (Mortercal piedra de grupo Puma), rejuntado y limpieza final, totalmente terminado, i/nivelación, asiento, rejuntado, sellado de juntas, labrado de cantos vistos y limpieza, s/NTE-EFP, medido en su longitud.
A27: 27 | G27: 1 | H27: 10 | K27: =PRODUCT(G27:J27) -> 10
A28: 28 | G28: 1 | H28: 13 | K28: =PRODUCT(G28:J28) -> 13
A29: 29 | B29: 1 | L29: =SUM(K27:K28) -> 23
A30: 30 | B30: M | F30: Total Medición........ | K30: =SUM(K27:K29) -> 23
A31: 31
A32: 32 | B32: D | C32: 01.05 | D32: E06MC050A6 | E32: m3 | F32: RECONSTRUCCIÓN DE ALMENAS S/APORTE | L32: =K37 -> 6.48 | M32: ='Cuadro de Precios'!H325 -> 0 | N32: =(L32*M32) -> 0 | O32: =N32 -> 0 | P32: 6.48 | Q32: ='Cuadro de Precios'!I325 -> 0 | R32: =PRODUCT(P32:Q32) -> 0 | S32: =(L32-P32) -> 0 | T32: =(M32-Q32) -> 0 | U32: =(O32-R32) -> 0
A33: 33 | B33: T | F33: Reconstrucción de almenas con piedra arenisca acopiada, elevación del material hasta la terraza, colocadas en la disposición que originalmente estaban ubicadas y recibidas con mortero de cal (Mortercal piedra de grupo Puma), i/preparación de piedras, recibido, rejuntado, limpieza y medios auxiliares, s/NTE-EFP-8. Medido el volumen de piedra reconstruido.
A34: 34 | F34: Almenas | G34: 18 | H34: 0.6 | I34: 0.5 | J34: 1 | K34: =PRODUCT(G34:J34) -> 5.4
A35: 35 | F35: Cañoneras | G35: 18 | H35: 0.6 | I35: 0.5 | J35: 0.2 | K35: =PRODUCT(G35:J35) -> 1.08
A36: 36 | B36: 1 | L36: =SUM(K34:K35) -> 6.48
A37: 37 | B37: M | F37: Total Medición........ | K37: =SUM(K34:K36) -> 6.48
A38: 38
A39: 39 | B39: D | C39: 01.06 | D39: R10SE0302 | E39: ud | F39: FIJACIÓN DE ALMENAS CON ANCLAJE INOX. 12mm | L39: =K43 -> 38 | M39: ='Cuadro de Precios'!H382 -> 0 | N39: =(L39*M39) -> 0 | O39: =N39 -> 0 | P39: 38 | Q39: ='Cuadro de Precios'!I382 -> 0 | R39: =PRODUCT(P39:Q39) -> 0 | S39: =(L39-P39) -> 0 | T39: =(M39-Q39) -> 0 | U39: =(O39-R39) -> 0
A40: 40 | B40: T | F40: Fijación de almenas con anclaje ø 12 mm de acero inoxidable, formado por: replanteo y taladrado de piedra ø 14 mm con brocas de rotación con coronas de widia o tungsteno, suministro de varilla inoxidable, de longitud aproximada 0,35 m. y diámetro 12 mm., soplado del agujero para eliminar detritus, impregnado de la varilla con resina epoxi de dos componentes de dosificación epoxi 100/35 tipo Masterflow 920F de Basf o equivalente, e introducción en el taladro, dejando fraguar, incluso cortes, retaceos, medios de elevación y seguridad, retirada de elementos sueltos y limpieza del lugar de trabajo. Medida la unidad ejecutada.
...
